BEGIN:VCALENDAR
VERSION:2.0
PRODID:SchoolNow
CALSCALE:GREGORIAN
BEGIN:VEVENT
UID:9365f1a6-ae91-11f0-8629-0a58a9feac02
DTSTAMP:20260424T092508Z
SUMMARY:Senior Trip-Orlando-Class of 2026
URL;VALUE=URI:https://www.lymecsd.org/calendar/8739417/senior-trip-orlando-
 class-of-2026
DTSTART:20260426T040000Z
DTEND:20260427T040000Z
END:VEVENT
END:VCALENDAR
