BEGIN:VCALENDAR
VERSION:2.0
PRODID:SchoolNow
CALSCALE:GREGORIAN
BEGIN:VEVENT
UID:9365f2b4-ae91-11f0-a2f2-0a58a9feac02
DTSTAMP:20260425T094508Z
SUMMARY:Senior Trip-Orlando-Class of 2026
URL;VALUE=URI:https://www.lymecsd.org/calendar/8739418/senior-trip-orlando-
 class-of-2026
DTSTART:20260427T040000Z
DTEND:20260428T040000Z
END:VEVENT
END:VCALENDAR
