BEGIN:VCALENDAR
VERSION:2.0
PRODID:SchoolNow
CALSCALE:GREGORIAN
BEGIN:VEVENT
UID:6fd72684-da96-11f0-971e-0affc3bc8543
DTSTAMP:20260421T082509Z
SUMMARY:PTSO Spring Thrift Store - Open to Students
URL;VALUE=URI:https://www.lymecsd.org/calendar/8825042/ptso-spring-thrift-s
 tore-open-to-students
DTSTART:20260401T140000Z
DTEND:20260401T180000Z
END:VEVENT
END:VCALENDAR
