BEGIN:VCALENDAR
VERSION:2.0
PRODID:SchoolNow
CALSCALE:GREGORIAN
BEGIN:VEVENT
UID:5f1bb9b4-06c8-11f1-8af4-02209d229d23
DTSTAMP:20260422T084508Z
SUMMARY:Starbase Fort Drum-5th Grade Class
URL;VALUE=URI:https://www.lymecsd.org/calendar/8852357/starbase-fort-drum-5
 th-grade-class
DTSTART:20260423T123000Z
DTEND:20260423T185500Z
END:VEVENT
END:VCALENDAR
