BEGIN:VCALENDAR
VERSION:2.0
PRODID:SchoolNow
CALSCALE:GREGORIAN
BEGIN:VEVENT
UID:5f1be150-06c8-11f1-9481-02209d229d23
DTSTAMP:20260420T020009Z
SUMMARY:Starbase Fort Drum-5th Graders
URL;VALUE=URI:https://www.lymecsd.org/calendar/8852359/starbase-fort-drum-5
 th-graders
DTSTART:20260421T123000Z
DTEND:20260421T185500Z
END:VEVENT
END:VCALENDAR
