BEGIN:VCALENDAR
VERSION:2.0
PRODID:SchoolNow
CALSCALE:GREGORIAN
BEGIN:VEVENT
UID:5f728c6c-06c8-11f1-8450-02209d229d23
DTSTAMP:20260423T090515Z
SUMMARY:Starbase Fort Drum-5th Graders
URL;VALUE=URI:https://www.lymecsd.org/calendar/8852361/starbase-fort-drum-5
 th-graders
DTSTART:20260424T123000Z
DTEND:20260424T185500Z
END:VEVENT
END:VCALENDAR
