BEGIN:VCALENDAR
VERSION:2.0
PRODID:SchoolNow
CALSCALE:GREGORIAN
BEGIN:VEVENT
UID:92e9cb34-1684-11f1-9d6a-023338a5d953
DTSTAMP:20260421T082508Z
SUMMARY:Good Friday-No School
URL;VALUE=URI:https://www.lymecsd.org/calendar/8885110/good-friday-no-schoo
 l
DTSTART:20260403T040000Z
DTEND:20260404T040000Z
END:VEVENT
END:VCALENDAR
