BEGIN:VCALENDAR
VERSION:2.0
PRODID:SchoolNow
CALSCALE:GREGORIAN
BEGIN:VEVENT
UID:69effd74-19b4-11f1-ba53-0a58a9feac02
DTSTAMP:20260423T090515Z
SUMMARY:LCSTA Plant Sale
URL;VALUE=URI:https://www.lymecsd.org/calendar/8897029/lcsta-plant-sale
DTSTART:20260423T130000Z
DTEND:20260423T190000Z
END:VEVENT
END:VCALENDAR
