BEGIN:VCALENDAR
VERSION:2.0
PRODID:SchoolNow
CALSCALE:GREGORIAN
BEGIN:VEVENT
UID:69effe50-19b4-11f1-9eae-0a58a9feac02
DTSTAMP:20260421T082509Z
SUMMARY:LCSTA Plant Sale
URL;VALUE=URI:https://www.lymecsd.org/calendar/8897030/lcsta-plant-sale
DTSTART:20260424T130000Z
DTEND:20260424T190000Z
END:VEVENT
END:VCALENDAR
