BEGIN:VCALENDAR
VERSION:2.0
PRODID:SchoolNow
CALSCALE:GREGORIAN
BEGIN:VEVENT
UID:69efff2c-19b4-11f1-bca1-0a58a9feac02
DTSTAMP:20260425T094508Z
SUMMARY:LCSTA Plant Sale
URL;VALUE=URI:https://www.lymecsd.org/calendar/8897031/lcsta-plant-sale
DTSTART:20260427T130000Z
DTEND:20260427T190000Z
END:VEVENT
END:VCALENDAR
